{ "currentVersion": 10.7, "serviceDescription": "
Il Piano delle Regole interessa il tessuto urbano consolidato, ha valenza prescrittiva, non ha limiti temporali e può essere rivisto ogni anno. Definisce le regole insediative per le aree di completamento e per le situazioni già costruite da riqualificare, distinte e definite in rapporto alla combinazione tra funzioni e caratteristiche morfologiche e tipologiche del tessuto insediativo. Il Piano delle regole individua:<\/SPAN><\/SPAN><\/P> - gli ambiti del tessuto urbano consolidato, quali insieme delle parti di territorio su cui è già avvenuta l\u2019edificazione o la trasformazione dei suoli, comprendendo in essi le aree libere intercluse o di completamento;<\/SPAN><\/SPAN><\/P> - gli immobili assoggettati a tutela in base alla normativa statale e regionale;<\/SPAN><\/SPAN><\/P> - le aree e gli edifici a rischio di compromissione o degrado e a rischio di incidente rilevante;<\/SPAN><\/SPAN><\/P> - le aree destinate all\u2019agricoltura;<\/SPAN><\/SPAN><\/P> - le aree di valore paesaggistico-ambientale ed ecologiche;<\/SPAN><\/SPAN><\/P> - le aree non soggette a trasformazione urbanistica.<\/SPAN><\/SPAN><\/P> <\/P><\/DIV><\/DIV><\/DIV>",
"mapName": "PR03 - Ambiti del tessuto urbano consolidato",
"description": "",
"copyrightText": "",
"supportsDynamicLayers": true,
"layers": [
{
"id": 0,
"name": "_Confine comunale",
"parentLayerId": -1,
"defaultVisibility": true,
"subLayerIds": null,
"minScale": 180010,
"maxScale": 0,
"type": "Feature Layer",
"geometryType": "esriGeometryPolygon"
},
{
"id": 1,
"name": "_Vestizione - Ambito ove è possibile avviare la procedura per il riconoscimento della struttura commerciale esistente a GDO",
"parentLayerId": -1,
"defaultVisibility": true,
"subLayerIds": null,
"minScale": 20010,
"maxScale": 0,
"type": "Feature Layer",
"geometryType": "esriGeometryPoint"
},
{
"id": 2,
"name": "Perimetro dei nuclei di antica formazione",
"parentLayerId": -1,
"defaultVisibility": true,
"subLayerIds": null,
"minScale": 25010,
"maxScale": 0,
"type": "Feature Layer",
"geometryType": "esriGeometryPolygon"
},
{
"id": 3,
"name": "Edifici",
"parentLayerId": -1,
"defaultVisibility": true,
"subLayerIds": null,
"minScale": 20010,
"maxScale": 0,
"type": "Feature Layer",
"geometryType": "esriGeometryPolygon"
},
{
"id": 4,
"name": "_Vestizione - Ambiti ex cava ",
"parentLayerId": -1,
"defaultVisibility": true,
"subLayerIds": null,
"minScale": 20010,
"maxScale": 0,
"type": "Feature Layer",
"geometryType": "esriGeometryPoint"
},
{
"id": 5,
"name": "Comparti ex cava",
"parentLayerId": -1,
"defaultVisibility": true,
"subLayerIds": null,
"minScale": 25010,
"maxScale": 0,
"type": "Feature Layer",
"geometryType": "esriGeometryPolygon"
},
{
"id": 6,
"name": "Parchi",
"parentLayerId": -1,
"defaultVisibility": true,
"subLayerIds": null,
"minScale": 35010,
"maxScale": 0,
"type": "Feature Layer",
"geometryType": "esriGeometryPolygon"
},
{
"id": 7,
"name": "Ambiti di sviluppo urbano",
"parentLayerId": -1,
"defaultVisibility": true,
"subLayerIds": null,
"minScale": 25010,
"maxScale": 0,
"type": "Feature Layer",
"geometryType": "esriGeometryPolygon"
},
{
"id": 8,
"name": "Pianificazione attuativa vigente",
"parentLayerId": -1,
"defaultVisibility": true,
"subLayerIds": null,
"minScale": 25010,
"maxScale": 0,
"type": "Feature Layer",
"geometryType": "esriGeometryPolygon"
},
{
"id": 9,
"name": "AdP - Città della Salute e della Ricerca",
"parentLayerId": -1,
"defaultVisibility": true,
"subLayerIds": null,
"minScale": 35010,
"maxScale": 0,
"type": "Feature Layer",
"geometryType": "esriGeometryPolygon"
},
{
"id": 10,
"name": "Ambiti di trasformazione del Documento di Piano",
"parentLayerId": -1,
"defaultVisibility": true,
"subLayerIds": null,
"minScale": 35010,
"maxScale": 0,
"type": "Feature Layer",
"geometryType": "esriGeometryPolygon"
},
{
"id": 11,
"name": "Azzonamento",
"parentLayerId": -1,
"defaultVisibility": true,
"subLayerIds": null,
"minScale": 35010,
"maxScale": 0,
"type": "Feature Layer",
"geometryType": "esriGeometryPolygon"
}
],
"tables": [],
"spatialReference": {
"wkid": 102100,
"latestWkid": 3857
},
"singleFusedMapCache": true,
"tileInfo": {
"rows": 256,
"cols": 256,
"dpi": 96,
"format": "PNG",
"compressionQuality": 0,
"origin": {
"x": -2.0037508342787E7,
"y": 2.0037508342787E7
},
"spatialReference": {
"wkid": 102100,
"latestWkid": 3857
},
"lods": [
{
"level": 0,
"resolution": 156543.033928,
"scale": 5.91657527591555E8
},
{
"level": 1,
"resolution": 78271.5169639999,
"scale": 2.95828763795777E8
},
{
"level": 2,
"resolution": 39135.7584820001,
"scale": 1.47914381897889E8
},
{
"level": 3,
"resolution": 19567.8792409999,
"scale": 7.3957190948944E7
},
{
"level": 4,
"resolution": 9783.93962049996,
"scale": 3.6978595474472E7
},
{
"level": 5,
"resolution": 4891.96981024998,
"scale": 1.8489297737236E7
},
{
"level": 6,
"resolution": 2445.98490512499,
"scale": 9244648.868618
},
{
"level": 7,
"resolution": 1222.99245256249,
"scale": 4622324.434309
},
{
"level": 8,
"resolution": 611.49622628138,
"scale": 2311162.217155
},
{
"level": 9,
"resolution": 305.748113140558,
"scale": 1155581.108577
},
{
"level": 10,
"resolution": 152.874056570411,
"scale": 577790.554289
},
{
"level": 11,
"resolution": 76.4370282850732,
"scale": 288895.277144
},
{
"level": 12,
"resolution": 38.2185141425366,
"scale": 144447.638572
},
{
"level": 13,
"resolution": 19.1092570712683,
"scale": 72223.819286
},
{
"level": 14,
"resolution": 9.55462853563415,
"scale": 36111.909643
},
{
"level": 15,
"resolution": 4.77731426794937,
"scale": 18055.954822
},
{
"level": 16,
"resolution": 2.38865713397468,
"scale": 9027.977411
},
{
"level": 17,
"resolution": 1.19432856685505,
"scale": 4513.988705
},
{
"level": 18,
"resolution": 0.597164283559817,
"scale": 2256.994353
},
{
"level": 19,
"resolution": 0.298582141647617,
"scale": 1128.497176
},
{
"level": 20,
"resolution": 0.14929107082380833,
"scale": 564.248588
},
{
"level": 21,
"resolution": 0.07464553541190416,
"scale": 282.124294
},
{
"level": 22,
"resolution": 0.03732276770595208,
"scale": 141.062147
},
{
"level": 23,
"resolution": 0.01866138385297604,
"scale": 70.5310735
}
]
},
"initialExtent": {
"xmin": 1022283.8063895188,
"ymin": 5704632.79033173,
"xmax": 1036523.7457694428,
"ymax": 5710754.729588273,
"spatialReference": {
"wkid": 102100,
"latestWkid": 3857
}
},
"fullExtent": {
"xmin": 1021357.798770882,
"ymin": 5701515.493419843,
"xmax": 1036523.7457694425,
"ymax": 5710744.178543877,
"spatialReference": {
"wkid": 102100,
"latestWkid": 3857
}
},
"minScale": 5.91657527591555E8,
"maxScale": 564.248588,
"units": "esriMeters",
"supportedImageFormatTypes": "PNG32,PNG24,PNG,JPG,DIB,TIFF,EMF,PS,PDF,GIF,SVG,SVGZ,BMP",
"documentInfo": {
"Title": "",
"Author": "",
"Comments": "",
"Subject": "",
"Category": "",
"AntialiasingMode": "None",
"TextAntialiasingMode": "Force",
"Keywords": "Edilizia; Territorio; Urbanistica; Pianificazione; Progettazione; Piano delle Regole"
},
"capabilities": "Map,Query,Data",
"supportedQueryFormats": "JSON, AMF, geoJSON",
"exportTilesAllowed": false,
"supportsDatumTransformation": true,
"maxRecordCount": 1000,
"maxImageHeight": 4096,
"maxImageWidth": 4096,
"supportedExtensions": ""
}