{ "currentVersion": 10.7, "serviceDescription": "
Le mappe di vincolo <\/SPAN>aeroportuale <\/SPAN>costituiscono lo strumento operativo essenziale per valutare la realizzazione di nuove edificazioni che possano essere in contrasto con le servitù aeronautiche definite dalle superfici di contenimento degli ostacoli alla navigazione aerea descritte dal cap. 4 del Regolamento ENAC per la Costruzione e l\u2019Esercizio degli Aeroporti e dall\u2019Annesso XIV ICAO.<\/SPAN><\/P> Tali mappe, inoltre, definiscono le aree limitrofe agli aeroporti da sottoporre a vincolo per quanto riguarda ulteriori potenziali pericoli per la navigazione aerea, al fine di garantire la sicurezza della navigazione aerea<\/SPAN><\/P><\/DIV><\/DIV><\/DIV>",
"mapName": "PR04_2 - Vincoli sovraordinati - Mappe di vincolo per la navigazione aerea",
"description": "",
"copyrightText": "",
"supportsDynamicLayers": true,
"layers": [
{
"id": 0,
"name": "_Confine comunale",
"parentLayerId": -1,
"defaultVisibility": true,
"subLayerIds": null,
"minScale": 180010,
"maxScale": 0,
"type": "Feature Layer",
"geometryType": "esriGeometryPolygon"
},
{
"id": 1,
"name": "Aeroporto di Bresso - quote altimetriche",
"parentLayerId": -1,
"defaultVisibility": true,
"subLayerIds": null,
"minScale": 35010,
"maxScale": 0,
"type": "Feature Layer",
"geometryType": "esriGeometryPolyline"
},
{
"id": 2,
"name": "Zona di tutela B di cui al Piano di rischio aeroportuale",
"parentLayerId": -1,
"defaultVisibility": true,
"subLayerIds": null,
"minScale": 25010,
"maxScale": 0,
"type": "Feature Layer",
"geometryType": "esriGeometryPolygon"
},
{
"id": 3,
"name": "Aeroporto di Milano-Linate - Superfici di avvicinamento e di salita al decollo",
"parentLayerId": -1,
"defaultVisibility": true,
"subLayerIds": null,
"minScale": 35010,
"maxScale": 0,
"type": "Feature Layer",
"geometryType": "esriGeometryPolygon"
},
{
"id": 4,
"name": "_Vestizione - Aeroporto di Milano-Linate - Delimitazioni",
"parentLayerId": -1,
"defaultVisibility": true,
"subLayerIds": null,
"minScale": 35010,
"maxScale": 0,
"type": "Feature Layer",
"geometryType": "esriGeometryPolyline"
},
{
"id": 5,
"name": "Zone oggetto di limitazioni delle seguenti attività e/o costruzioni",
"parentLayerId": -1,
"defaultVisibility": true,
"subLayerIds": null,
"minScale": 35010,
"maxScale": 0,
"type": "Feature Layer",
"geometryType": "esriGeometryPolygon"
}
],
"tables": [],
"spatialReference": {
"wkid": 102100,
"latestWkid": 3857
},
"singleFusedMapCache": true,
"tileInfo": {
"rows": 256,
"cols": 256,
"dpi": 96,
"format": "PNG",
"compressionQuality": 0,
"origin": {
"x": -2.0037508342787E7,
"y": 2.0037508342787E7
},
"spatialReference": {
"wkid": 102100,
"latestWkid": 3857
},
"lods": [
{
"level": 0,
"resolution": 156543.033928,
"scale": 5.91657527591555E8
},
{
"level": 1,
"resolution": 78271.5169639999,
"scale": 2.95828763795777E8
},
{
"level": 2,
"resolution": 39135.7584820001,
"scale": 1.47914381897889E8
},
{
"level": 3,
"resolution": 19567.8792409999,
"scale": 7.3957190948944E7
},
{
"level": 4,
"resolution": 9783.93962049996,
"scale": 3.6978595474472E7
},
{
"level": 5,
"resolution": 4891.96981024998,
"scale": 1.8489297737236E7
},
{
"level": 6,
"resolution": 2445.98490512499,
"scale": 9244648.868618
},
{
"level": 7,
"resolution": 1222.99245256249,
"scale": 4622324.434309
},
{
"level": 8,
"resolution": 611.49622628138,
"scale": 2311162.217155
},
{
"level": 9,
"resolution": 305.748113140558,
"scale": 1155581.108577
},
{
"level": 10,
"resolution": 152.874056570411,
"scale": 577790.554289
},
{
"level": 11,
"resolution": 76.4370282850732,
"scale": 288895.277144
},
{
"level": 12,
"resolution": 38.2185141425366,
"scale": 144447.638572
},
{
"level": 13,
"resolution": 19.1092570712683,
"scale": 72223.819286
},
{
"level": 14,
"resolution": 9.55462853563415,
"scale": 36111.909643
},
{
"level": 15,
"resolution": 4.77731426794937,
"scale": 18055.954822
},
{
"level": 16,
"resolution": 2.38865713397468,
"scale": 9027.977411
},
{
"level": 17,
"resolution": 1.19432856685505,
"scale": 4513.988705
},
{
"level": 18,
"resolution": 0.597164283559817,
"scale": 2256.994353
},
{
"level": 19,
"resolution": 0.298582141647617,
"scale": 1128.497176
},
{
"level": 20,
"resolution": 0.14929107082380833,
"scale": 564.248588
},
{
"level": 21,
"resolution": 0.07464553541190416,
"scale": 282.124294
},
{
"level": 22,
"resolution": 0.03732276770595208,
"scale": 141.062147
},
{
"level": 23,
"resolution": 0.01866138385297604,
"scale": 70.5310735
}
]
},
"initialExtent": {
"xmin": 1022396.6963455565,
"ymin": 5704847.516215284,
"xmax": 1036604.149306254,
"ymax": 5710955.489128302,
"spatialReference": {
"cs": "pcs",
"wkid": 102100
}
},
"fullExtent": {
"xmin": 1021917.4493266249,
"ymin": 5701726.804004266,
"xmax": 1037083.3963251854,
"ymax": 5710955.489128303,
"spatialReference": {
"cs": "pcs",
"wkid": 102100
}
},
"minScale": 5.91657527591555E8,
"maxScale": 564.248588,
"units": "esriMeters",
"supportedImageFormatTypes": "PNG32,PNG24,PNG,JPG,DIB,TIFF,EMF,PS,PDF,GIF,SVG,SVGZ,BMP",
"documentInfo": {
"Title": "",
"Author": "",
"Comments": "",
"Subject": "",
"Category": "",
"AntialiasingMode": "None",
"TextAntialiasingMode": "Force",
"Keywords": "Aeroporti,Geoportale,Urbanistica e pianificazione,Vincolistica"
},
"capabilities": "Map,Query,Data",
"supportedQueryFormats": "JSON, AMF, geoJSON",
"exportTilesAllowed": false,
"supportsDatumTransformation": true,
"maxRecordCount": 1000,
"maxImageHeight": 4096,
"maxImageWidth": 4096,
"supportedExtensions": ""
}