{
 "currentVersion": 10.7,
 "serviceDescription": "Reti tecnologiche",
 "mapName": "Reti",
 "description": "",
 "copyrightText": "",
 "supportsDynamicLayers": true,
 "layers": [
  {
   "id": 0,
   "name": "Confine comunale",
   "parentLayerId": -1,
   "defaultVisibility": true,
   "subLayerIds": null,
   "minScale": 0,
   "maxScale": 0,
   "type": "Feature Layer",
   "geometryType": "esriGeometryPolygon"
  },
  {
   "id": 1,
   "name": "Teleriscaldamento",
   "parentLayerId": -1,
   "defaultVisibility": true,
   "subLayerIds": [
    2,
    3
   ],
   "minScale": 0,
   "maxScale": 0,
   "type": "Group Layer"
  },
  {
   "id": 2,
   "name": "Nodo teleriscaldamento",
   "parentLayerId": 1,
   "defaultVisibility": true,
   "subLayerIds": null,
   "minScale": 5010,
   "maxScale": 0,
   "type": "Feature Layer",
   "geometryType": "esriGeometryPoint"
  },
  {
   "id": 3,
   "name": "Condotta teleriscaldamento",
   "parentLayerId": 1,
   "defaultVisibility": true,
   "subLayerIds": null,
   "minScale": 100000,
   "maxScale": 0,
   "type": "Feature Layer",
   "geometryType": "esriGeometryPolyline"
  },
  {
   "id": 4,
   "name": "Snam",
   "parentLayerId": -1,
   "defaultVisibility": true,
   "subLayerIds": [
    5
   ],
   "minScale": 0,
   "maxScale": 0,
   "type": "Group Layer"
  },
  {
   "id": 5,
   "name": "Gasdotto Snam",
   "parentLayerId": 4,
   "defaultVisibility": true,
   "subLayerIds": null,
   "minScale": 0,
   "maxScale": 0,
   "type": "Feature Layer",
   "geometryType": "esriGeometryPolyline"
  },
  {
   "id": 6,
   "name": "Wind",
   "parentLayerId": -1,
   "defaultVisibility": true,
   "subLayerIds": [
    7,
    8,
    9
   ],
   "minScale": 0,
   "maxScale": 0,
   "type": "Group Layer"
  },
  {
   "id": 7,
   "name": "Nodo Wind",
   "parentLayerId": 6,
   "defaultVisibility": true,
   "subLayerIds": null,
   "minScale": 5010,
   "maxScale": 0,
   "type": "Feature Layer",
   "geometryType": "esriGeometryPoint"
  },
  {
   "id": 8,
   "name": "Span Wind",
   "parentLayerId": 6,
   "defaultVisibility": true,
   "subLayerIds": null,
   "minScale": 0,
   "maxScale": 0,
   "type": "Feature Layer",
   "geometryType": "esriGeometryPolyline"
  },
  {
   "id": 9,
   "name": "Trasmedia Wind",
   "parentLayerId": 6,
   "defaultVisibility": true,
   "subLayerIds": null,
   "minScale": 0,
   "maxScale": 0,
   "type": "Feature Layer",
   "geometryType": "esriGeometryPolyline"
  },
  {
   "id": 10,
   "name": "Illuminazione",
   "parentLayerId": -1,
   "defaultVisibility": true,
   "subLayerIds": [
    11,
    12
   ],
   "minScale": 0,
   "maxScale": 0,
   "type": "Group Layer"
  },
  {
   "id": 11,
   "name": "Punto luce",
   "parentLayerId": 10,
   "defaultVisibility": true,
   "subLayerIds": null,
   "minScale": 5010,
   "maxScale": 0,
   "type": "Feature Layer",
   "geometryType": "esriGeometryPoint"
  },
  {
   "id": 12,
   "name": "Rete illuminazione",
   "parentLayerId": 10,
   "defaultVisibility": true,
   "subLayerIds": null,
   "minScale": 0,
   "maxScale": 0,
   "type": "Feature Layer",
   "geometryType": "esriGeometryPolyline"
  },
  {
   "id": 13,
   "name": "Gas",
   "parentLayerId": -1,
   "defaultVisibility": true,
   "subLayerIds": [
    14,
    15
   ],
   "minScale": 0,
   "maxScale": 0,
   "type": "Group Layer"
  },
  {
   "id": 14,
   "name": "Nodo Gas",
   "parentLayerId": 13,
   "defaultVisibility": true,
   "subLayerIds": null,
   "minScale": 5010,
   "maxScale": 0,
   "type": "Feature Layer",
   "geometryType": "esriGeometryPoint"
  },
  {
   "id": 15,
   "name": "Rete Gas",
   "parentLayerId": 13,
   "defaultVisibility": true,
   "subLayerIds": null,
   "minScale": 0,
   "maxScale": 0,
   "type": "Feature Layer",
   "geometryType": "esriGeometryPolyline"
  },
  {
   "id": 16,
   "name": "Fognatura",
   "parentLayerId": -1,
   "defaultVisibility": true,
   "subLayerIds": [
    17,
    18,
    19,
    20
   ],
   "minScale": 0,
   "maxScale": 0,
   "type": "Group Layer"
  },
  {
   "id": 17,
   "name": "_#Camerette fognatura ",
   "parentLayerId": 16,
   "defaultVisibility": true,
   "subLayerIds": null,
   "minScale": 5010,
   "maxScale": 0,
   "type": "Feature Layer",
   "geometryType": "esriGeometryMultipoint"
  },
  {
   "id": 18,
   "name": "#Camerette fognatura ",
   "parentLayerId": 16,
   "defaultVisibility": true,
   "subLayerIds": null,
   "minScale": 5010,
   "maxScale": 0,
   "type": "Feature Layer",
   "geometryType": "esriGeometryPoint"
  },
  {
   "id": 19,
   "name": "_Camerette fognatura ",
   "parentLayerId": 16,
   "defaultVisibility": true,
   "subLayerIds": null,
   "minScale": 5010,
   "maxScale": 0,
   "type": "Feature Layer",
   "geometryType": "esriGeometryPoint"
  },
  {
   "id": 20,
   "name": "Rete fognaria",
   "parentLayerId": 16,
   "defaultVisibility": true,
   "subLayerIds": null,
   "minScale": 0,
   "maxScale": 0,
   "type": "Feature Layer",
   "geometryType": "esriGeometryPolyline"
  },
  {
   "id": 21,
   "name": "Enel",
   "parentLayerId": -1,
   "defaultVisibility": true,
   "subLayerIds": [
    22
   ],
   "minScale": 0,
   "maxScale": 0,
   "type": "Group Layer"
  },
  {
   "id": 22,
   "name": "Rete ENEL",
   "parentLayerId": 21,
   "defaultVisibility": true,
   "subLayerIds": null,
   "minScale": 0,
   "maxScale": 0,
   "type": "Feature Layer",
   "geometryType": "esriGeometryPolyline"
  },
  {
   "id": 23,
   "name": "Acquedotto",
   "parentLayerId": -1,
   "defaultVisibility": true,
   "subLayerIds": [
    24,
    25
   ],
   "minScale": 0,
   "maxScale": 0,
   "type": "Group Layer"
  },
  {
   "id": 24,
   "name": "Nodo acquedotto",
   "parentLayerId": 23,
   "defaultVisibility": true,
   "subLayerIds": null,
   "minScale": 5010,
   "maxScale": 0,
   "type": "Feature Layer",
   "geometryType": "esriGeometryMultipoint"
  },
  {
   "id": 25,
   "name": "Rete acquedotto",
   "parentLayerId": 23,
   "defaultVisibility": true,
   "subLayerIds": null,
   "minScale": 0,
   "maxScale": 0,
   "type": "Feature Layer",
   "geometryType": "esriGeometryPolyline"
  },
  {
   "id": 26,
   "name": "Metroweb",
   "parentLayerId": -1,
   "defaultVisibility": true,
   "subLayerIds": [
    27,
    28
   ],
   "minScale": 0,
   "maxScale": 0,
   "type": "Group Layer"
  },
  {
   "id": 27,
   "name": "Pozzetti Metroweb",
   "parentLayerId": 26,
   "defaultVisibility": true,
   "subLayerIds": null,
   "minScale": 5010,
   "maxScale": 0,
   "type": "Feature Layer",
   "geometryType": "esriGeometryPoint"
  },
  {
   "id": 28,
   "name": "Rete Metroweb",
   "parentLayerId": 26,
   "defaultVisibility": true,
   "subLayerIds": null,
   "minScale": 0,
   "maxScale": 0,
   "type": "Feature Layer",
   "geometryType": "esriGeometryPolyline"
  },
  {
   "id": 29,
   "name": "Ossigenodotto",
   "parentLayerId": -1,
   "defaultVisibility": true,
   "subLayerIds": [
    30,
    31,
    32,
    33,
    34,
    35
   ],
   "minScale": 0,
   "maxScale": 0,
   "type": "Group Layer"
  },
  {
   "id": 30,
   "name": "Punti misura protezione catodica Ossigenodotto",
   "parentLayerId": 29,
   "defaultVisibility": true,
   "subLayerIds": null,
   "minScale": 5010,
   "maxScale": 0,
   "type": "Feature Layer",
   "geometryType": "esriGeometryPoint"
  },
  {
   "id": 31,
   "name": "Ossigenodotto 6pollici Ossigenodotto",
   "parentLayerId": 29,
   "defaultVisibility": true,
   "subLayerIds": null,
   "minScale": 0,
   "maxScale": 0,
   "type": "Feature Layer",
   "geometryType": "esriGeometryPolyline"
  },
  {
   "id": 32,
   "name": "Ossigenodotto 6pollici (Milano) Ossigenodotto",
   "parentLayerId": 29,
   "defaultVisibility": true,
   "subLayerIds": null,
   "minScale": 0,
   "maxScale": 0,
   "type": "Feature Layer",
   "geometryType": "esriGeometryPolyline"
  },
  {
   "id": 33,
   "name": "Ossigenodotto 10pollici Ossigenodotto",
   "parentLayerId": 29,
   "defaultVisibility": true,
   "subLayerIds": null,
   "minScale": 0,
   "maxScale": 0,
   "type": "Feature Layer",
   "geometryType": "esriGeometryPolyline"
  },
  {
   "id": 34,
   "name": "Cavo protezione catodica Ossigenodotto",
   "parentLayerId": 29,
   "defaultVisibility": true,
   "subLayerIds": null,
   "minScale": 0,
   "maxScale": 0,
   "type": "Feature Layer",
   "geometryType": "esriGeometryPolyline"
  },
  {
   "id": 35,
   "name": "Alimentatori-Dispersori Ossigenodotto",
   "parentLayerId": 29,
   "defaultVisibility": true,
   "subLayerIds": null,
   "minScale": 5010,
   "maxScale": 0,
   "type": "Feature Layer",
   "geometryType": "esriGeometryPolygon"
  }
 ],
 "tables": [
  {
   "id": 36,
   "name": "legenda",
   "type": "Table"
  },
  {
   "id": 37,
   "name": "legenda2",
   "type": "Table"
  }
 ],
 "spatialReference": {
  "wkid": 102100,
  "latestWkid": 3857
 },
 "singleFusedMapCache": true,
 "tileInfo": {
  "rows": 256,
  "cols": 256,
  "dpi": 96,
  "format": "PNG",
  "compressionQuality": 0,
  "origin": {
   "x": -2.0037508342787E7,
   "y": 2.0037508342787E7
  },
  "spatialReference": {
   "wkid": 102100,
   "latestWkid": 3857
  },
  "lods": [
   {
    "level": 0,
    "resolution": 156543.033928,
    "scale": 5.91657527591555E8
   },
   {
    "level": 1,
    "resolution": 78271.5169639999,
    "scale": 2.95828763795777E8
   },
   {
    "level": 2,
    "resolution": 39135.7584820001,
    "scale": 1.47914381897889E8
   },
   {
    "level": 3,
    "resolution": 19567.8792409999,
    "scale": 7.3957190948944E7
   },
   {
    "level": 4,
    "resolution": 9783.93962049996,
    "scale": 3.6978595474472E7
   },
   {
    "level": 5,
    "resolution": 4891.96981024998,
    "scale": 1.8489297737236E7
   },
   {
    "level": 6,
    "resolution": 2445.98490512499,
    "scale": 9244648.868618
   },
   {
    "level": 7,
    "resolution": 1222.99245256249,
    "scale": 4622324.434309
   },
   {
    "level": 8,
    "resolution": 611.49622628138,
    "scale": 2311162.217155
   },
   {
    "level": 9,
    "resolution": 305.748113140558,
    "scale": 1155581.108577
   },
   {
    "level": 10,
    "resolution": 152.874056570411,
    "scale": 577790.554289
   },
   {
    "level": 11,
    "resolution": 76.4370282850732,
    "scale": 288895.277144
   },
   {
    "level": 12,
    "resolution": 38.2185141425366,
    "scale": 144447.638572
   },
   {
    "level": 13,
    "resolution": 19.1092570712683,
    "scale": 72223.819286
   },
   {
    "level": 14,
    "resolution": 9.55462853563415,
    "scale": 36111.909643
   },
   {
    "level": 15,
    "resolution": 4.77731426794937,
    "scale": 18055.954822
   },
   {
    "level": 16,
    "resolution": 2.38865713397468,
    "scale": 9027.977411
   },
   {
    "level": 17,
    "resolution": 1.19432856685505,
    "scale": 4513.988705
   },
   {
    "level": 18,
    "resolution": 0.597164283559817,
    "scale": 2256.994353
   },
   {
    "level": 19,
    "resolution": 0.298582141647617,
    "scale": 1128.497176
   },
   {
    "level": 20,
    "resolution": 0.14929107082380833,
    "scale": 564.248588
   },
   {
    "level": 21,
    "resolution": 0.07464553541190416,
    "scale": 282.124294
   },
   {
    "level": 22,
    "resolution": 0.03732276770595208,
    "scale": 141.062147
   },
   {
    "level": 23,
    "resolution": 0.01866138385297604,
    "scale": 70.5310735
   }
  ]
 },
 "initialExtent": {
  "xmin": 1018923.9062529982,
  "ymin": 5704965.165496646,
  "xmax": 1038979.3630305785,
  "ymax": 5712836.535406052,
  "spatialReference": {
   "wkid": 102100,
   "latestWkid": 3857
  }
 },
 "fullExtent": {
  "xmin": 1019109.1149567489,
  "ymin": 5700943.490786629,
  "xmax": 1038794.1543268277,
  "ymax": 5712836.535406053,
  "spatialReference": {
   "wkid": 102100,
   "latestWkid": 3857
  }
 },
 "minScale": 5.91657527591555E8,
 "maxScale": 564.248588,
 "units": "esriMeters",
 "supportedImageFormatTypes": "PNG32,PNG24,PNG,JPG,DIB,TIFF,EMF,PS,PDF,GIF,SVG,SVGZ,BMP",
 "documentInfo": {
  "Title": "Reti tecnologiche",
  "Author": "",
  "Comments": "Reti tecnologiche",
  "Subject": "Reti tecnologiche",
  "Category": "",
  "AntialiasingMode": "None",
  "TextAntialiasingMode": "Force",
  "Keywords": "Reti"
 },
 "capabilities": "Map,Query,Data",
 "supportedQueryFormats": "JSON, AMF, geoJSON",
 "exportTilesAllowed": false,
 "datumTransformations": [
  {
   "geoTransforms": [
    {
     "wkid": 108001,
     "latestWkid": 1241,
     "transformForward": true,
     "name": "NAD_1927_To_NAD_1983_NADCON"
    }
   ]
  },
  {
   "geoTransforms": [
    {
     "wkid": 108001,
     "latestWkid": 1241,
     "transformForward": false,
     "name": "NAD_1927_To_NAD_1983_NADCON"
    }
   ]
  }
 ],
 "supportsDatumTransformation": true,
 "maxRecordCount": 1000,
 "maxImageHeight": 4096,
 "maxImageWidth": 4096,
 "supportedExtensions": ""
}
