View In:
ArcGIS JavaScript
ArcGIS Online Map Viewer
ArcGIS Earth
ArcMap
ArcGIS Explorer
ArcGIS Pro
View Footprint In:
ArcGIS Online Map Viewer
Service Description: In base alla Legge Regionale dell'11 marzo 2005, n. 12, la Regione, in coordinamento con gli Enti locali, cura la realizzazione del Sistema informativo territoriale integrato, denominato SIT, al fine di disporre di elementi conoscitivi necessari alla definizione delle scelte di programmazione generale e settoriale, di pianificazione del territorio e all’attività progettuale.
La tavola delle previsioni di piano costituisce parte integrante del Documento di piano previsto nei Piani di Governo del Territorio. Rappresenta uno strumento condiviso e mantenuto dai vari Enti. Contiene una sintesi informativa dei contenuti conoscitivi e previsionali degli strumenti di pianificazione comunale.
Il Piano di Governo del Territorio, sulla base dello studio delle componenti paesaggistiche, dell’individuazione delle zone di tutela e delle criticità idrogeologiche, suddivide il territorio comunale in 5 classi di sensibilità paesaggistica: sensibilità molto alta, sensibilità alta, sensibilità media, sensibilità bassa e molto bassa.
Tale classificazione è finalizzata all’ottimale inserimento di quei progetti di trasformazione che saranno oggetto di autorizzazione paesaggistica e di cui, quindi, sarà valutata l'incidenza sull'ambiente circostante.
Map Name: PR07 - Carta della sensibilità paesistica
Legend
All Layers and Tables
Dynamic Legend
Dynamic All Layers
Layers:
Description:
Copyright Text:
Spatial Reference:
102100
(3857)
Single Fused Map Cache: true
Tile Info:
- Height: 256
- Width: 256
- DPI: 96
-
Levels of Detail: 24
-
Level ID: 1
[ Start Tile, End Tile ]
- Resolution: 78271.5169639999
- Scale: 2.95828763795777E8
-
Level ID: 2
[ Start Tile, End Tile ]
- Resolution: 39135.7584820001
- Scale: 1.47914381897889E8
-
Level ID: 3
[ Start Tile, End Tile ]
- Resolution: 19567.8792409999
- Scale: 7.3957190948944E7
-
Level ID: 4
[ Start Tile, End Tile ]
- Resolution: 9783.93962049996
- Scale: 3.6978595474472E7
-
Level ID: 5
[ Start Tile, End Tile ]
- Resolution: 4891.96981024998
- Scale: 1.8489297737236E7
- Format: PNG
- Compression Quality: 0.0
- Origin: X: -2.0037508342787E7
Y: 2.0037508342787E7
- Spatial Reference: 102100
(3857)
Initial Extent:
XMin: 1022349.9388799146
YMin: 5704590.127087029
XMax: 1036557.3918406107
YMax: 5710698.100000044
Spatial Reference: 102100
Full Extent:
XMin: 1021870.6918609823
YMin: 5701469.4148760075
XMax: 1037036.638859543
YMax: 5710698.100000043
Spatial Reference: 102100
Units: esriMeters
Supported Image Format Types: PNG32,PNG24,PNG,JPG,DIB,TIFF,EMF,PS,PDF,GIF,SVG,SVGZ,BMP
Document Info:
Title:
Author:
Comments:
Subject:
Category:
Keywords: Paesaggio; Territorio; Sensibilità; Ambiente
AntialiasingMode: None
TextAntialiasingMode: Force
Supports Dynamic Layers: true
MaxRecordCount: 1000
MaxImageHeight: 4096
MaxImageWidth: 4096
Supported Query Formats: JSON, AMF, geoJSON
Min Scale: 5.91657527591555E8
Max Scale: 564.248588
Supports Datum Transformation: true
Child Resources:
Info
Dynamic Layer
Supported Operations:
Export Map
Identify
QueryDomains
Find
Return Updates